BEGIN:VCALENDAR
VERSION:2.0
PRODID:-//eventon.com NONSGML v1.0//EN
CALSCALE:GREGORIAN
METHOD:PUBLISH
BEGIN:VEVENT
UID:69e731dc77dd1
DTSTAMP:20260421T081420Z
DTSTART:20180528
DTEND:20180529
LOCATION:
SUMMARY:Memorial Day Holiday - No School
DESCRIPTION:Memorial Day Holiday - No School\nhttps://queencity.edu/events/
 memorial-day-holiday-no-school/
URL:https://queencity.edu/events/memorial-day-holiday-no-school/
END:VEVENT
END:VCALENDAR