BEGIN:VCALENDAR
VERSION:2.0
PRODID:-//eventon.com NONSGML v1.0//EN
CALSCALE:GREGORIAN
METHOD:PUBLISH
BEGIN:VEVENT
UID:69e811b470c28
DTSTAMP:20260422T000924Z
DTSTART:20180227T183000Z
DTEND:20180227T203000Z
LOCATION:
SUMMARY:Board Meeting
DESCRIPTION:Board Meeting\nhttps://queencity.edu/events/board-meeting-5/
URL:https://queencity.edu/events/board-meeting-5/
END:VEVENT
END:VCALENDAR