BEGIN:VCALENDAR
VERSION:2.0
PRODID:-//eventon.com NONSGML v1.0//EN
CALSCALE:GREGORIAN
METHOD:PUBLISH
BEGIN:VEVENT
UID:69e72fc7cf8f8
DTSTAMP:20260421T080527Z
DTSTART:20230815T183000Z
DTEND:20230815T193000Z
LOCATION:
SUMMARY:Board Meeting
DESCRIPTION:Join Zoom Meeting Meeting ID: 851 7982 8577 Passcode: 247612 Di
 al in: 1-646-558-8656\nhttps://queencity.edu/events/board-meeting-2/
URL:https://queencity.edu/events/board-meeting-2/
END:VEVENT
END:VCALENDAR