BEGIN:VCALENDAR
VERSION:2.0
PRODID:-//eventon.com NONSGML v1.0//EN
CALSCALE:GREGORIAN
METHOD:PUBLISH
BEGIN:VEVENT
UID:69e4dc816f460
DTSTAMP:20260419T134537Z
DTSTART:20230405T180000Z
DTEND:20230405T193000Z
LOCATION:
SUMMARY:In Person Strategic Meeting (Main Campus)
DESCRIPTION:\nhttps://queencity.edu/events/in-person-strategic-meeting-main
 -campus/
URL:https://queencity.edu/events/in-person-strategic-meeting-main-campus/
END:VEVENT
END:VCALENDAR