BEGIN:VCALENDAR
VERSION:2.0
PRODID:-//eventon.com NONSGML v1.0//EN
CALSCALE:GREGORIAN
METHOD:PUBLISH
BEGIN:VEVENT
UID:69e732babb5b2
DTSTAMP:20260421T081802Z
DTSTART:20230331T170000Z
DTEND:20230404T170000Z
LOCATION:
SUMMARY:Double Good Popcorn Fundraiser!
DESCRIPTION:\nhttps://queencity.edu/events/double-good-popcorn-fundraiser/
URL:https://queencity.edu/events/double-good-popcorn-fundraiser/
END:VEVENT
END:VCALENDAR