BEGIN:VCALENDAR
VERSION:2.0
PRODID:-//eventon.com NONSGML v1.0//EN
CALSCALE:GREGORIAN
METHOD:PUBLISH
BEGIN:VEVENT
UID:69e870052c3b1
DTSTAMP:20260422T065149Z
DTSTART:20210119T180000Z
DTEND:20210119T210000Z
LOCATION:
SUMMARY:Board Meeting
DESCRIPTION:Join the meeting Meeting ID: 947 9724 6037 Passcode: 887117 Dia
 l in by phone: 646-558-8656\nhttps://queencity.edu/events/board-meeting-1-1
 9-21/
URL:https://queencity.edu/events/board-meeting-1-19-21/
END:VEVENT
END:VCALENDAR