BEGIN:VCALENDAR
VERSION:2.0
PRODID:-//eventon.com NONSGML v1.0//EN
CALSCALE:GREGORIAN
METHOD:PUBLISH
BEGIN:VEVENT
UID:69e73254c14fd
DTSTAMP:20260421T081620Z
DTSTART:20200410
DTEND:20200411
LOCATION:
SUMMARY:Spring Break - No  School
DESCRIPTION:Spring Break - No School\nhttps://queencity.edu/events/spring-b
 reak-no-school/
URL:https://queencity.edu/events/spring-break-no-school/
END:VEVENT
END:VCALENDAR