BEGIN:VCALENDAR
VERSION:2.0
PRODID:-//eventon.com NONSGML v1.0//EN
CALSCALE:GREGORIAN
METHOD:PUBLISH
BEGIN:VEVENT
UID:69e72f50c29cc
DTSTAMP:20260421T080328Z
DTSTART:20190917T183000Z
DTEND:20190917T203000Z
LOCATION:
SUMMARY:Board Meeting
DESCRIPTION:Board Meeting\nhttps://queencity.edu/events/board-meeting-09201
 9/
URL:https://queencity.edu/events/board-meeting-092019/
END:VEVENT
END:VCALENDAR